BEGIN:VCALENDAR
VERSION:2.0
PRODID:-//ChamberMaster//Event Calendar 2.0//EN
METHOD:PUBLISH
X-PUBLISHED-TTL:P3D
REFRESH-INTERVAL:P3D
CALSCALE:GREGORIAN
BEGIN:VEVENT
DTSTART:20260507T160000Z
DTEND:20260507T173000Z
X-MICROSOFT-CDO-ALLDAYEVENT:FALSE
SUMMARY:Buenos Dias at Bueno Café - Hosted by YDN Creciente
DESCRIPTION:Join us for our Buenos D as Meet Up at Bueno Caf \, specializing in Latino specialty coffee\, s ndwiches\, and pan dulce\, hosted by Youth Development Network (YDN) Creciente\, and start your day with meaningful connections that strengthen both your business and our community.\n\nBuenos D as is more than networking   it's where relationships are built\, leadership is cultivated\, and opportunities take shape. This gathering brings together entrepreneurs\, emerging leaders\, and community partners for intentional conversation and connection before the workday begins.\n\nYDN's Creciente Latinx Leadership Program is designed for members of the Latino/Hispanic/Latinx community   and those who recognize the importance of this demographic to the future of the Sacramento region. The program's goal is to build leadership capacity within our community by preparing and empowering the next generation of Latinx leaders to influence business and civic policy decisions.\n\nDuring this special Buenos D as\, you will have the opportunity to:\n\n\n	\n	Connect with fellow Chamber members and emerging Latinx leaders\n	\n	\n	Learn about leadership development pathways through Creciente\n	\n	\n	Share what your business is working on and explore potential collaboration\n	\n	\n	Hear about upcoming Chamber initiatives and regional engagement opportunities\n	\n\n\nWe'll also spotlight Big Day of Giving\, the region's 24-hour giving challenge happening Thursday\, May 7\, 2026. This long-standing initiative brings our community together to support the nonprofits that serve our region. The Sacramento Hispanic Chamber of Commerce Foundation will be raising funds for our Futuro Scholarship and Mayor Joe Serna Jr. Scholarship Program\, investing directly in the next generation of leaders.\n\nJoin us for cafecito\, conversation\, and connection.\n\nBuenos D as   the perfect start to your day.
X-ALT-DESC;FMTTYPE=text/html:<p data-end="439" data-start="151">Join us for our <strong data-end="204" data-start="167">Buenos D&iacute\;as Meet Up at Bueno Caf&eacute\;</strong>\, specializing in Latino specialty coffee\, s&aacute\;ndwiches\, and pan dulce\, hosted by <span class="hover:entity-accent entity-underline inline cursor-pointer align-baseline">Youth Development Network</span> (YDN) Creciente\, and start your day with meaningful connections that strengthen both your business and our community.</p>\n\n<p data-end="728" data-start="441">Buenos D&iacute\;as is more than networking &mdash\; it&rsquo\;s where relationships are built\, leadership is cultivated\, and opportunities take shape. This gathering brings together entrepreneurs\, emerging leaders\, and community partners for intentional conversation and connection before the workday begins.</p>\n\n<p data-end="1126" data-start="730">YDN&rsquo\;s <em data-end="773" data-start="736">Creciente Latinx Leadership Program</em> is designed for members of the Latino/Hispanic/Latinx community &mdash\; and those who recognize the importance of this demographic to the future of the Sacramento region. The program&rsquo\;s goal is to build leadership capacity within our community by preparing and empowering the next generation of Latinx leaders to influence business and civic policy decisions.</p>\n\n<p data-end="1194" data-start="1128">During this special Buenos D&iacute\;as\, you will have the opportunity to:</p>\n\n<ul data-end="1489" data-start="1195">\n	<li data-end="1262" data-start="1195">\n	<p data-end="1262" data-start="1197">Connect with fellow Chamber members and emerging Latinx leaders</p>\n	</li>\n	<li data-end="1328" data-start="1263">\n	<p data-end="1328" data-start="1265">Learn about leadership development pathways through Creciente</p>\n	</li>\n	<li data-end="1407" data-start="1329">\n	<p data-end="1407" data-start="1331">Share what your business is working on and explore potential collaboration</p>\n	</li>\n	<li data-end="1489" data-start="1408">\n	<p data-end="1489" data-start="1410">Hear about upcoming Chamber initiatives and regional engagement opportunities</p>\n	</li>\n</ul>\n\n<p data-end="1924" data-start="1491">We&rsquo\;ll also spotlight <span class="hover:entity-accent entity-underline inline cursor-pointer align-baseline">Big Day of Giving</span>\, the region&rsquo\;s 24-hour giving challenge happening Thursday\, May 7\, 2026. This long-standing initiative brings our community together to support the nonprofits that serve our region. The <span class="hover:entity-accent entity-underline inline cursor-pointer align-baseline">Sacramento Hispanic Chamber of Commerce Foundation</span> will be raising funds for our <em data-end="1823" data-start="1803">Futuro Scholarship</em> and <em data-end="1869" data-start="1828">Mayor Joe Serna Jr. Scholarship Program</em>\, investing directly in the next generation of leaders.</p>\n\n<p data-end="1977" data-start="1926">Join us for cafecito\, conversation\, and connection.</p>\n\n<p data-end="2027" data-is-last-node="" data-is-only-node="" data-start="1979"><strong data-end="2027" data-is-last-node="" data-start="1979">Buenos D&iacute\;as &mdash\; the perfect start to your day.</strong></p>\n
LOCATION:400 T Street Sacramento\, CA 95811
UID:e.415.7615
SEQUENCE:3
DTSTAMP:20260421T104358Z
URL:https://business.sachcc.org/events/details/buenos-dias-at-bueno-caf&#233;-hosted-by-ydn-creciente-7615
END:VEVENT

END:VCALENDAR
