BEGIN:VCALENDAR
VERSION:2.0
PRODID:-//ChamberMaster//Event Calendar 2.0//EN
METHOD:PUBLISH
X-PUBLISHED-TTL:P3D
REFRESH-INTERVAL:P3D
CALSCALE:GREGORIAN
BEGIN:VEVENT
DTSTART:20240606T160000Z
DTEND:20240606T173000Z
X-MICROSOFT-CDO-ALLDAYEVENT:FALSE
SUMMARY:Buenos Dias Meet-Up with Agile Construction
DESCRIPTION:Join us for our Buenos Dias Meet Up to start your day making connections to promote and grow your business. Over coffee and chat\, you'll be supporting a local business and getting ahead of your peers by networking before even hitting the office. Buenos Dias\, the perfect start to your day!
X-ALT-DESC;FMTTYPE=text/html:<div style="color: gray\;"><span style="color: rgb(0\, 0\, 0)\;">Join us for our Buenos Dias Meet Up to start your day making connections to promote and grow your business. Over coffee and chat\, you&rsquo\;ll be supporting a local business and getting ahead of your peers by networking before even hitting the office. Buenos Dias\, the perfect start to your day!</span></div>\n
LOCATION:2848 Arden Way\, Suite 130 Sacramento\, CA 95825
UID:e.415.7128
SEQUENCE:3
DTSTAMP:20260421T091506Z
URL:https://business.sachcc.org/events/details/buenos-dias-meet-up-with-agile-construction-7128
END:VEVENT

END:VCALENDAR
