BEGIN:VCALENDAR
VERSION:2.0
PRODID:-//ChamberMaster//Event Calendar 2.0//EN
METHOD:PUBLISH
X-PUBLISHED-TTL:P3D
REFRESH-INTERVAL:P3D
CALSCALE:GREGORIAN
BEGIN:VEVENT
DTSTART:20260502T003000Z
DTEND:20260502T040000Z
X-MICROSOFT-CDO-ALLDAYEVENT:FALSE
SUMMARY:CASA de ESPAÑOL: 15 Year Anniversary Kickoff
DESCRIPTION:Our May First Friday is extra special as we kick off our 15 Year Anniversary celebration with a ribbon-cutting ceremony and a night dedicated to community\, culture\, and connection.\n\n\n\nJoin us Friday\, May 1 from 5:30 9 PM for an evening filled with art\, music\, food\, drinks\, and powerful community support.\n\n	Ribbon-Cutting Ceremony at 5:30 PM\n	Music by My Cousin Vinny & Mike Diamond\n	Cervecer a by Urban Roots serving food & drinks\n	Local artisans + vendors\n	"ESTAMOS AQU " photography exhibit on display\n\n\n\nThis month\, bar proceeds will support: \n\nCorremos Sacramento \n\nand Give2Cuba relief efforts\n\n\n\nOur featured exhibit\, ESTAMOS AQU \, is a collective photography show exploring identity\, heritage\, pride\, and presence\, reminding us that all our stories matter and our communities belong.\n\nFor 15 years\, CASA has been a place for language\, culture\, celebration\, and community. This night is not just a party\, it's a reflection of everything we've built together.\n\nCome celebrate with us.\n\nCome be part of what's next.
X-ALT-DESC;FMTTYPE=text/html:Our May First Friday is extra special as we kick off our 15 Year Anniversary celebration with a ribbon-cutting ceremony and a night dedicated to community\, culture\, and connection.<br />\n<br />\nJoin us Friday\, May 1 from 5:30&ndash\;9 PM for an evening filled with art\, music\, food\, drinks\, and powerful community support.\n<ul>\n	<li>Ribbon-Cutting Ceremony at 5:30 PM</li>\n	<li>Music by My Cousin Vinny &amp\; Mike Diamond</li>\n	<li>Cervecer&iacute\;a by Urban Roots serving food &amp\; drinks</li>\n	<li>Local artisans + vendors</li>\n	<li>&ldquo\;ESTAMOS AQU&Iacute\;&rdquo\; photography exhibit on display</li>\n</ul>\n<br />\nThis month\, bar proceeds will support:&nbsp\;<br />\nCorremos Sacramento&nbsp\;<br />\nand Give2Cuba relief efforts<br />\n<br />\nOur featured exhibit\, ESTAMOS AQU&Iacute\;\, is a collective photography show exploring identity\, heritage\, pride\, and presence\, reminding us that all our stories matter and our communities belong.<br />\nFor 15 years\, CASA has been a place for language\, culture\, celebration\, and community. This night is not just a party\, it&rsquo\;s a reflection of everything we&rsquo\;ve built together.<br />\nCome celebrate with us.<br />\nCome be part of what&rsquo\;s next.
LOCATION:CASA de ESPA OL 1101 R Street Sacramento\, CA 95811
UID:e.415.7784
SEQUENCE:3
DTSTAMP:20260424T035807Z
URL:https://business.sachcc.org/events/details/casa-de-espa&#241;ol-15-year-anniversary-kickoff-7784
END:VEVENT

END:VCALENDAR
