BEGIN:VCALENDAR
VERSION:2.0
PRODID:-//ChamberMaster//Event Calendar 2.0//EN
METHOD:PUBLISH
X-PUBLISHED-TTL:P3D
REFRESH-INTERVAL:P3D
CALSCALE:GREGORIAN
BEGIN:VEVENT
DTSTART:20250925T003000Z
DTEND:20250925T020000Z
X-MICROSOFT-CDO-ALLDAYEVENT:FALSE
SUMMARY:Elevate Sacramento: Power of Capital\, presented by JP Morgan Chase
DESCRIPTION:Join us to learn about the Power of Capital\, presented by Charles Johnson\, SBC with JP Morgan Chase. Topics include: \n\n	Strategic Cash Flow Management: Learn to manage cash flow strategically to support business operations.\n	Borrowing Considerations: Evaluate if borrowing is necessary for your business and understand the implications.\n	Key Financial Data: Identify essential financial data for informed decision-making.\n	SBA Loan Programs: Explore Small Business Administration loan options and their benefits.
X-ALT-DESC;FMTTYPE=text/html:Join us to learn about the Power of Capital\, presented by Charles Johnson\, SBC with JP Morgan Chase. Topics include:&nbsp\;\n<ul>\n	<li>Strategic Cash Flow Management: Learn to manage cash flow strategically to support business operations.</li>\n	<li>Borrowing Considerations: Evaluate if borrowing is necessary for your business and understand the implications.</li>\n	<li>Key Financial Data: Identify essential financial data for informed decision-making.</li>\n	<li>SBA Loan Programs: Explore Small Business Administration loan options and their benefits.</li>\n</ul>\n
LOCATION:4450 Florin Rd Sacramento\, CA 95823
UID:e.415.7556
SEQUENCE:3
DTSTAMP:20260421T123955Z
URL:https://business.sachcc.org/events/details/elevate-sacramento-power-of-capital-presented-by-jp-morgan-chase-7556
END:VEVENT

END:VCALENDAR
