BEGIN:VCALENDAR
VERSION:2.0
PRODID:-//ChamberMaster//Event Calendar 2.0//EN
METHOD:PUBLISH
X-PUBLISHED-TTL:P3D
REFRESH-INTERVAL:P3D
CALSCALE:GREGORIAN
BEGIN:VEVENT
DTSTART:20260428T180000Z
DTEND:20260428T184500Z
X-MICROSOFT-CDO-ALLDAYEVENT:FALSE
SUMMARY:Financial Capability Starts at Home: How to Talk Money with Family
DESCRIPTION:How do you start a conversation with someone about money Whether you're in a new relationship navigating financial discussions\, with a partner trying to make ends meet\, or a parent teaching the value of a dollar\, this webinar is for you! Talking openly and comfortably about finances is an important step in helping your household develop a healthy relationship with money. Join SAFE's Financial Wellness Team to turn this once taboo topic into a common place within your home.\n\n \nTopics Covered\n\n\n  Deciding what topics to discuss\n\n  Questions to get your conversations started\n\n  Setting money goals together
X-ALT-DESC;FMTTYPE=text/html:<div><span style="background-color:initial\; font-family:inherit\; font-size:inherit">How do you start a conversation with someone about money Whether you&rsquo\;re in a new relationship navigating financial discussions\, with a partner trying to make ends meet\, or a parent teaching the value of a dollar\, this webinar is for you! Talking openly and comfortably about finances is an important step in helping your household develop a healthy relationship with money. Join SAFE&rsquo\;s Financial Wellness Team to turn this once taboo topic into a common place within your home.</span><br />\n&nbsp\;\n<h4>Topics Covered</h4>\n\n<div>\n<div>&bull\; Deciding what topics to discuss</div>\n\n<div>&bull\; Questions to get your conversations started</div>\n\n<div>&bull\; Setting money goals together</div>\n</div>\n</div>\n\n<div>&nbsp\;</div>\n
LOCATION:Free Virtual Webinar
UID:e.415.7777
SEQUENCE:3
DTSTAMP:20260424T035444Z
URL:https://business.sachcc.org/events/details/financial-capability-starts-at-home-how-to-talk-money-with-family-7777
END:VEVENT

END:VCALENDAR
