BEGIN:VCALENDAR
VERSION:2.0
PRODID:-//ChamberMaster//Event Calendar 2.0//EN
METHOD:PUBLISH
X-PUBLISHED-TTL:P3D
REFRESH-INTERVAL:P3D
CALSCALE:GREGORIAN
BEGIN:VEVENT
DTSTART:20250509T003000Z
DTEND:20250509T020000Z
X-MICROSOFT-CDO-ALLDAYEVENT:FALSE
SUMMARY:Joint Chamber Mixer
DESCRIPTION:The Carmichael Chamber and Sacramento Hispanic Chamber invite you to a fun evening of networking\, great company\, and delicious tacos! Meet and mingle with local professionals while casting your vote for the Best Taco from food trucks at Carmichael Park.
X-ALT-DESC;FMTTYPE=text/html:The Carmichael Chamber and Sacramento Hispanic Chamber invite you to a fun evening of networking\, great company\, and delicious tacos! Meet and mingle with local professionals while casting your vote for the Best Taco from food trucks at Carmichael Park.&nbsp\; &nbsp\;
LOCATION:Carmichael Park 5750 Grant Ave Carmichael\, CA 95608
UID:e.415.7478
SEQUENCE:3
DTSTAMP:20260426T012516Z
URL:https://business.sachcc.org/events/details/joint-chamber-mixer-05-08-2025-7478
END:VEVENT

END:VCALENDAR
