BEGIN:VCALENDAR
VERSION:2.0
PRODID:-//ChamberMaster//Event Calendar 2.0//EN
METHOD:PUBLISH
X-PUBLISHED-TTL:P3D
REFRESH-INTERVAL:P3D
CALSCALE:GREGORIAN
BEGIN:VEVENT
DTSTART:20221004T150000Z
DTEND:20221004T220000Z
X-MICROSOFT-CDO-ALLDAYEVENT:FALSE
SUMMARY:Livability Summit
DESCRIPTION:The Livability Summit is a community event for everyone where ideas are shared\, voices heard\, and solutions hatched. If you care about improving the health\, wellbeing\, and inclusivity of our communities\, your voice belongs in these important conversations. Together\, we'll take a deeper look at Valley Vision's latest research findings and participate in a series of conversations around how we come together to improve quality of life for all residents.
X-ALT-DESC;FMTTYPE=text/html:<span style="letter-spacing:0.4pt\;background-image:initial\;background-position:initial\;background-size:initial\;background-repeat:initial\;background-attachment:initial\;background-origin:initial\;background-clip:initial\;"><span style="color:black\;"><span style="font-family:verdana\,sans-serif\;"><span style="font-size:12pt\;">The Livability Summit is a community event for everyone where ideas are shared\, voices heard\, and solutions hatched. If you care about improving the health\, wellbeing\, and inclusivity of our communities\, your voice belongs in these important conversations. Together\, we&rsquo\;ll take a deeper look at Valley Vision&rsquo\;s latest research findings and participate in a series of conversations around how we come together to improve quality of life for all residents.</span></span></span></span>
LOCATION:California State University\, Sacramento University Union Ballroom 6000 J Street Sacramento\, CA 95819
UID:e.415.6875
SEQUENCE:3
DTSTAMP:20260422T233051Z
URL:https://business.sachcc.org/events/details/livability-summit-6875
END:VEVENT

END:VCALENDAR
