BEGIN:VCALENDAR
VERSION:2.0
PRODID:-//ChamberMaster//Event Calendar 2.0//EN
METHOD:PUBLISH
X-PUBLISHED-TTL:P3D
REFRESH-INTERVAL:P3D
CALSCALE:GREGORIAN
BEGIN:VEVENT
DTSTART:20241012T150000Z
DTEND:20241012T200000Z
X-MICROSOFT-CDO-ALLDAYEVENT:FALSE
SUMMARY:Placer Land Trust: Hispanic Heritage Month Celebration with the Sacramento Hispanic Chamber of Commerce
DESCRIPTION:This Hispanic Heritage Month Celebration is for SHCC members\, families\, and friends  to enjoy Placer Land Trust's Big Hill Preserves! These preserves protect critical unfragmented blue oak woodlands in the Raccoon Creek and Bear River watersheds and are part of one of the last relatively "wild" areas in western Placer County. The trails on these preserves meander past spectacular rock formations\, the flowing Raccoon Creek\, and panoramic views of the Sierra Nevada foothills and Sacramento Valley. The Preserves are currently private property and will be opening to the public in a year or more\, but for this event we will have the place to ourselves! \n\n \n\nYou are welcome to do any of the following:\n\n1. Participate on a volunteer docent-guided hike. Placer Land Trust's trained docents will lead you on a family-friendly hike through local natural wonders. Learn about the local flora and fauna\, take in the amazing views\, and see why this permanently protected preserve is a gift to current and future generations!  The hike is 4-5 miles and will take approximately 3-4 hours\, and will begin at 8:30 a.m. It is an easy to moderate hike on uneven ground with some rough terrain and an elevation gain of around 500 ft. Suitable only for children 7 years and older. Participation in the hike is for a maximum of 20 people. \n\n \n\n2. Hike/run at your own pace. There are 6.5 miles of trails for you to pick from. You will receive a trail map when you arrive\, and from there you are free to explore the beautiful preserves at your own pace!\n\n \n\n3. Stay for lunch! If you would like to stay and picnic after you move around the preserve\, you are welcome to do so until 1:00 p.m. Bring chairs\, blanket\, picnic items   due to fire concern\, no BBQs\, open flames\, or ignition allowed.  \n\n \n\n4. Other activities you might choose include:\n\n  Photograph\, paint\, or draw in nature\n\n  Do yoga or meditate by the creek\, under a tree\, or at a viewpoint\n\n  Get creative!  \n\n \n\nPlease plan your day accordingly so that you are back to the parking area by 1pm. Gates close shortly thereafter. \n\n \n\nThis is a rain or shine event so come prepared for the weather. \n\n \n\nWhat is not allowed at this event: \n\n\n  Motorized recreational vehicles\n\n  Bicycles\n\n  Horses\n\n  Dogs (unless leashed service animals)\n\n  No smoking\, vaping\, open flame or ignition source\, or firearms\n\n\n \n\nRegistration: \n\n  Deadline to sign up is 5 pm on Thursday prior to the event (unless the event fills first.) \n\n  Space is limited!  Please only register if you will be attending so that you don't take a spot away from someone else. \n\n  YOU AND ANY GUESTS MUST ALL BE REGISTERED IN ORDER TO ATTEND\n\n  If you signed up and can no longer attend\, please contact Fabiola at fabiola@sachcc.org\n\n\n\nParticipants must sign a release of liability available here: Event Waiver\n\nPlease print and bring it with you the day of the event. One form per household. Parent signature is required for children under 18.\n\n\n\nImportant Note: The Big Hill Preserves\, including the roads surrounding them\, are not open to the public. Please help us respect the neighborhoods around these preserves by only visiting during scheduled guided activities that you are registered for. Trespassers will be prosecuted.
X-ALT-DESC;FMTTYPE=text/html:<div>This Hispanic Heritage Month Celebration is for SHCC members\, families\, and friends&nbsp\; to enjoy Placer Land Trust&rsquo\;s Big Hill Preserves! These preserves protect critical unfragmented blue oak woodlands in the Raccoon Creek and Bear River watersheds and are part of one of the last relatively &ldquo\;wild&rdquo\; areas in western Placer County. The trails on these preserves meander past spectacular rock formations\, the flowing Raccoon Creek\, and panoramic views of the Sierra Nevada foothills and Sacramento Valley. The Preserves are currently private property and will be opening to the public in a year or more\, but for this event we will have the place to ourselves!&nbsp\;</div>\n\n<div>&nbsp\;</div>\n\n<div>You are welcome to do any of the following:</div>\n\n<div>1.<span style="white-space:pre"> </span>Participate on a volunteer docent-guided hike. Placer Land Trust&rsquo\;s trained docents will lead you on a family-friendly hike through local natural wonders. Learn about the local flora and fauna\, take in the amazing views\, and see why this permanently protected preserve is a gift to current and future generations!&nbsp\; The hike is 4-5 miles and will take approximately 3-4 hours\, and will begin at 8:30 a.m. It is an easy to moderate hike on uneven ground with some rough terrain and an elevation gain of around 500 ft. Suitable only for children 7 years and older. Participation in the hike is for a maximum of 20 people.&nbsp\;</div>\n\n<div>&nbsp\;</div>\n\n<div>2.<span style="white-space:pre"> </span>Hike/run at your own pace. There are 6.5 miles of trails for you to pick from. You will receive a trail map when you arrive\, and from there you are free to explore the beautiful preserves at your own pace!</div>\n\n<div>&nbsp\;</div>\n\n<div>3.<span style="white-space:pre"> </span>Stay for lunch! If you would like to stay and picnic after you move around the preserve\, you are welcome to do so until 1:00 p.m. Bring chairs\, blanket\, picnic items &ndash\; due to fire concern\, no BBQs\, open flames\, or ignition allowed.&nbsp\;&nbsp\;</div>\n\n<div>&nbsp\;</div>\n\n<div>4.<span style="white-space:pre"> </span>Other activities you might choose include:</div>\n\n<div>&bull\;<span style="white-space:pre"> </span>Photograph\, paint\, or draw in nature</div>\n\n<div>&bull\;<span style="white-space:pre"> </span>Do yoga or meditate by the creek\, under a tree\, or at a viewpoint</div>\n\n<div>&bull\;<span style="white-space:pre"> </span>Get creative!&nbsp\;&nbsp\;</div>\n\n<div>&nbsp\;</div>\n\n<div>Please plan your day accordingly so that you are back to the parking area by 1pm. Gates close shortly thereafter.&nbsp\;</div>\n\n<div>&nbsp\;</div>\n\n<div>This is a rain or shine event so come prepared for the weather.&nbsp\;</div>\n\n<div>&nbsp\;</div>\n\n<div>What is not allowed at this event:&nbsp\;</div>\n\n<div>\n<div>&bull\;<span style="white-space:pre"> </span>Motorized recreational vehicles</div>\n\n<div>&bull\;<span style="white-space:pre"> </span>Bicycles</div>\n\n<div>&bull\;<span style="white-space:pre"> </span>Horses</div>\n\n<div>&bull\;<span style="white-space:pre"> </span>Dogs (unless leashed service animals)</div>\n\n<div>&bull\;<span style="white-space:pre"> </span>No smoking\, vaping\, open flame or ignition source\, or firearms</div>\n</div>\n\n<div>&nbsp\;</div>\n\n<div>Registration:&nbsp\;</div>\n\n<div>&bull\;<span style="white-space:pre"> </span>Deadline to sign up is 5 pm on Thursday prior to the event (unless the event fills first.)&nbsp\;</div>\n\n<div>&bull\;<span style="white-space:pre"> </span>Space is limited!&nbsp\; Please only register if you will be attending so that you don&rsquo\;t take a spot away from someone else.&nbsp\;</div>\n\n<div>&bull\;<span style="white-space:pre"> </span>YOU AND ANY GUESTS MUST ALL BE REGISTERED IN ORDER TO ATTEND</div>\n\n<div>&bull\;<span style="white-space:pre"> </span>If you signed up and can no longer attend\, please contact Fabiola at fabiola@sachcc.org<br />\n<br />\nParticipants must sign a release of liability available here: <a href="https://waiver.smartwaiver.com/e/ZRgciv2uiEW5nQfq5GF5tH/">Event Waiver</a><br />\nPlease print and bring it with you the day of the event. One form per household. Parent signature is required for children under 18.<br />\n<br />\n<strong><em><span style="color:black\;"><span style="font-family:avenir next lt pro\,sans-serif\;"><span style="font-size:11.0pt\;">Important Note: </span></span></span></em></strong><em><span style="color:black\;"><span style="font-family:avenir next lt pro\,sans-serif\;"><span style="font-size:11.0pt\;">The Big Hill Preserves\, including the roads surrounding them\, are not open to the public. Please help us respect the neighborhoods around these preserves by only visiting during scheduled guided activities that you are registered for. Trespassers will be prosecuted.</span></span></span></em><br />\n&nbsp\;</div>\n\n<div>&nbsp\;</div>\n
LOCATION:Big Hill Preserves\, North Auburn
UID:e.415.7411
SEQUENCE:3
DTSTAMP:20260423T102737Z
URL:https://business.sachcc.org/events/details/placer-land-trust-hispanic-heritage-month-celebration-with-the-sacramento-hispanic-chamber-of-commerce-7411
END:VEVENT

END:VCALENDAR
