BEGIN:VCALENDAR
VERSION:2.0
PRODID:-//ChamberMaster//Event Calendar 2.0//EN
METHOD:PUBLISH
X-PUBLISHED-TTL:P3D
REFRESH-INTERVAL:P3D
CALSCALE:GREGORIAN
BEGIN:VEVENT
DTSTART:20260501T160000Z
DTEND:20260501T180000Z
X-MICROSOFT-CDO-ALLDAYEVENT:FALSE
SUMMARY:Portraits of Promise
DESCRIPTION:Join Us for a Special Morning Event   May 1st!\nExperience the Portrait of a Graduate through powerful student stories and real-life impact.\n\nDiscover how Gateway's Portrait of a Graduate is shaping the future\; and see what's possible when a community comes together to support student success.
X-ALT-DESC;FMTTYPE=text/html:Join Us for a Special Morning Event &ndash\; May 1st!\n<p>Experience the <em>Portrait of a Graduate</em> through powerful student stories and real-life impact.</p>\n\n<p>Discover how Gateway&rsquo\;s Portrait of a Graduate is shaping the future\; and see what&rsquo\;s possible when a community comes together to support student success.</p>\n
LOCATION:Lionsgate Hotel 3410 Westover St McClellan\, CA 95652
UID:e.415.7768
SEQUENCE:3
DTSTAMP:20260421T114312Z
URL:https://business.sachcc.org/events/details/portraits-of-promise-7768
END:VEVENT

END:VCALENDAR
