BEGIN:VCALENDAR
VERSION:2.0
PRODID:-//ChamberMaster//Event Calendar 2.0//EN
METHOD:PUBLISH
X-PUBLISHED-TTL:P3D
REFRESH-INTERVAL:P3D
CALSCALE:GREGORIAN
BEGIN:VEVENT
DTSTART:20220909T010000Z
DTEND:20220909T040000Z
X-MICROSOFT-CDO-ALLDAYEVENT:FALSE
SUMMARY:Save the Date for the 50th Anniversary Awards Gala
DESCRIPTION:ONWARD   50 Years of Impact!\n\nAs the Sacramento Hispanic Chamber of Commerce (SAHCC) celebrates its 50th Anniversary\, we are excited to celebrate our history\, to recognize the people and businesses that have shared in our journey\, and to focus ahead on our role as a champion for a more prosperous and inclusive economy for Hispanics across the Sacramento region. Onward!\n\n \n\nFor the last 50 years\, we have been passionate advocates and supporters for Hispanic and minority-owned small businesses by providing resources\, education\, networking opportunities\, and capital to help our communities grow and secure our place as vital to the economic engine of our region. Our work is far from over\, and your financial investment is key to expanding our reach and impact.\n\nJoin us for our 50th Anniversary for a truly special experience! With the team at the Golden 1 Center\, we are planning an exclusive event that brings together our businesses and community for a night of recognition\, entertainment\, and celebration. Our Anniversary kicks off Hispanic Heritage month\, and our next 50 years!\n\n\n\nOur sponsorship levels can be found HERE\, and we can customize packages. We look forward to seeing you on September 8th!
X-ALT-DESC;FMTTYPE=text/html:<h2 style="box-sizing: border-box\; font-family: Poppins\, sans-serif\; color: rgba(0\, 0\, 0\, 0.95)\; position: relative\; clear: both\; font-weight: 700\; line-height: 1.3\; letter-spacing: -0.03em\; margin: 0px 0px 0.522em\; text-rendering: optimizelegibility\; font-size: 1.889em\; word-spacing: 0.16px\;"><span style="box-sizing: border-box\; color: rgb(128\, 0\, 128)\;">ONWARD &ndash\;&nbsp\;50 Years of Impact!</span></h2>\n\n<p style="box-sizing: border-box\; margin: 0px 0px 1.75em\; color: rgb(122\, 122\, 122)\; font-family: Roboto\, sans-serif\; font-size: 17.776px\; letter-spacing: 0.24px\; word-spacing: 0.16px\;">As the Sacramento Hispanic Chamber of Commerce (SAHCC) celebrates its 50th Anniversary\, we are excited to celebrate our history\, to recognize the people and businesses that have shared in our journey\, and to focus ahead on our role as a champion for a more prosperous and inclusive economy for Hispanics across the Sacramento region. Onward!<br />\n&nbsp\;</p>\n\n<p style="box-sizing: border-box\; margin: 0px 0px 1.75em\; color: rgb(122\, 122\, 122)\; font-family: Roboto\, sans-serif\; font-size: 17.776px\; letter-spacing: 0.24px\; word-spacing: 0.16px\;">For the last 50 years\, we have been passionate advocates and supporters for Hispanic and minority-owned small businesses by providing resources\, education\, networking opportunities\, and capital to help our communities grow and secure our place as vital to the economic engine of our region. Our work is far from over\, and your financial investment is key to expanding our reach and impact.</p>\n\n<p style="box-sizing: border-box\; margin: 0px 0px 1.75em\; color: rgb(122\, 122\, 122)\; font-family: Roboto\, sans-serif\; font-size: 17.776px\; letter-spacing: 0.24px\; word-spacing: 0.16px\;">Join us for our 50th Anniversary for a truly special experience! With the team at the Golden 1 Center\, we are planning an exclusive event that brings together our businesses and community for a night of recognition\, entertainment\, and celebration. Our Anniversary kicks off Hispanic Heritage month\, and our next 50 years!<br />\n<br />\n<span style="color: rgb(122\, 122\, 122)\; font-family: Roboto\, sans-serif\; font-size: 17.776px\; letter-spacing: 0.24px\; word-spacing: 0.16px\;">Our sponsorship levels can be found&nbsp\;</span><a href="https://www.sachcc.org/wp-content/uploads/2022/06/2022_SCHCCF-Partnership-Deck_Anniversary_v2.pdf" style="box-sizing: border-box\; text-decoration-line: none\; color: rgb(192\, 36\, 41)\; transition: all 0.2s ease-in-out 0s\; backface-visibility: hidden\; box-shadow: none\; font-family: Roboto\, sans-serif\; font-size: 17.776px\; letter-spacing: 0.24px\; word-spacing: 0.16px\;">HERE</a><span style="color: rgb(122\, 122\, 122)\; font-family: Roboto\, sans-serif\; font-size: 17.776px\; letter-spacing: 0.24px\; word-spacing: 0.16px\;">\, and we can customize packages. We look forward to seeing you on September 8th!</span></p>\n
LOCATION:Golden 1 Center 500 David J Stern Walk\, Sacramento\, CA 95814
UID:e.415.6828
SEQUENCE:3
DTSTAMP:20260421T101704Z
URL:https://business.sachcc.org/events/details/save-the-date-for-the-50th-anniversary-awards-gala-6828
END:VEVENT

END:VCALENDAR
