BEGIN:VCALENDAR
VERSION:2.0
PRODID:-//ChamberMaster//Event Calendar 2.0//EN
METHOD:PUBLISH
X-PUBLISHED-TTL:P3D
REFRESH-INTERVAL:P3D
CALSCALE:GREGORIAN
BEGIN:VEVENT
DTSTART:20260501T010000Z
DTEND:20260501T030000Z
X-MICROSOFT-CDO-ALLDAYEVENT:FALSE
SUMMARY:Tacos and Tequila Fundraiser
DESCRIPTION:Enjoy an evening of great food\, drinks\, entertainment\, and community impact all in support of local student scholarships! ??? Tickets are $45\, so grab yours today!\n\nJoin us for raffles\, live entertainment\, and a night dedicated to giving back while enjoying a great experience.\n\nWhether you're a real estate professional\, business owner\, or simply passionate about supporting education\, this is an event you won't want to miss. All proceeds will go directly toward scholarships benefiting students in our community.\n\nWe are committed to service and giving back to the community we proudly serve. ??
X-ALT-DESC;FMTTYPE=text/html:<div>\n<p>Enjoy an evening of great food\, drinks\, entertainment\, and community impact&mdash\;all in support of local student scholarships! ??? Tickets are $45\, so grab yours today!</p>\n\n<p>Join us for raffles\, live entertainment\, and a night dedicated to giving back while enjoying a great experience.</p>\n\n<p>Whether you&rsquo\;re a real estate professional\, business owner\, or simply passionate about supporting education\, this is an event you won&rsquo\;t want to miss. All proceeds will go directly toward scholarships benefiting students in our community.</p>\n\n<p>We are committed to service and giving back to the community we proudly serve. ??</p>\n</div>\n
LOCATION:Location: La Cosecha 917 9th St Sacramento\, CA 95814
UID:e.415.7776
SEQUENCE:3
DTSTAMP:20260423T091119Z
URL:https://business.sachcc.org/events/details/tacos-and-tequila-fundraiser-7776
END:VEVENT

END:VCALENDAR
