BEGIN:VCALENDAR
VERSION:2.0
PRODID:-//ChamberMaster//Event Calendar 2.0//EN
METHOD:PUBLISH
X-PUBLISHED-TTL:P3D
REFRESH-INTERVAL:P3D
CALSCALE:GREGORIAN
BEGIN:VEVENT
DTSTART:20250321T170000Z
DTEND:20250321T180000Z
X-MICROSOFT-CDO-ALLDAYEVENT:FALSE
SUMMARY:The Power of Budgeting - Learn how to take control of your finances and achieve your goals with our online event\,
DESCRIPTION:Welcome to The Power Of Budgeting event!\n\nAre you ready to take control of your finances and make your money work for you? Join us for this online event where we will dive into the world of budgeting and financial strategizing. Learn tips and tricks on how to create a budget that works for you\, save money for the things you love\, and reach your financial goals. Whether you're a budgeting pro or just getting started\, this event is perfect for anyone looking to improve their financial literacy. Don't miss out on this opportunity to empower yourself and take charge of your financial future. See you there!\n\n \n\nTo secure your spot and receive your unique access link\, please complete your registration on Zoom by clicking the link below:\n\nZoom Registration\n\nOnce you complete your Zoom registration\, you will receive a confirmation email from Zoom with your unique link to join the event.\n\nImportant:\n\n  Be sure to register on Zoom as soon as possible to avoid any last-minute issues.\n\n  Check your spam or promotions folder if you don't see the Zoom confirmation email.\n\n  If you have any questions\, feel free to reach out to us via Eventbrite messages.\n\nWe're excited to see you there!
X-ALT-DESC;FMTTYPE=text/html:<p><strong>Welcome to The Power Of Budgeting event!</strong></p>\n\n<p>Are you ready to take control of your finances and make your money work for you? Join us for this online event where we will dive into the world of budgeting and financial strategizing. Learn&nbsp\;<strong>tips and tricks</strong>&nbsp\;on how to create a budget that works for you\,&nbsp\;<strong>save money</strong>&nbsp\;for the things you love\, and&nbsp\;<strong>reach your financial goals</strong>. Whether you&#39\;re a budgeting pro or just getting started\, this event is perfect for anyone looking to&nbsp\;<strong>improve their financial literacy</strong>. Don&#39\;t miss out on this opportunity to&nbsp\;<strong>empower</strong>&nbsp\;yourself and&nbsp\;<strong>take charge</strong>&nbsp\;of your financial future. See you there!<br />\n&nbsp\;</p>\n\n<p>To secure your spot and receive your unique access link\, <strong>please complete your registration on Zoom</strong> by clicking the link below:</p>\n\n<p><a href="https://edwardjones.zoom.us/webinar/register/WN_6igDtgj2SDWWH4Lw5LkQ7g#/registration">Zoom Registration</a></p>\n\n<p>Once you complete your Zoom registration\, you will receive a confirmation email from Zoom with your unique link to join the event.</p>\n\n<p><strong>Important:</strong></p>\n\n<p>&bull\; Be sure to register on Zoom as soon as possible to avoid any last-minute issues.</p>\n\n<p>&bull\; Check your spam or promotions folder if you don&rsquo\;t see the Zoom confirmation email.</p>\n\n<p>&bull\; If you have any questions\, feel free to reach out to us via Eventbrite messages.</p>\n\n<p>We&rsquo\;re excited to see you there!</p>\n
LOCATION:Virtual To secure your spot and receive your unique access link\, please complete your registration on Zoom by clicking the link below: Zoom Registration Once you complete your Zoom registration\, you will receive a confirmation email from Zoom with your unique link to join the event. Important: Be sure to register on Zoom as soon as possible to avoid any last-minute issues. Check your spam or promotions folder if you don't see the Zoom confirmation email. If you have any questions\, feel free to reach out to us via Eventbrite messages. We're excited to see you there!
UID:e.415.7458
SEQUENCE:3
DTSTAMP:20260425T163524Z
URL:https://business.sachcc.org/events/details/the-power-of-budgeting-learn-how-to-take-control-of-your-finances-and-achieve-your-goals-with-our-online-event-7458
END:VEVENT

END:VCALENDAR
